BEGIN:VCALENDAR
VERSION:2.0
PRODID:-//MC Jauer e.V. im ADAC//NONSGML kigkonsult.se iCalcreator 2.41.92//
CALSCALE:GREGORIAN
METHOD:PUBLISH
UID:31353631-3661-4235-a364-396630383230
X-WR-CALNAME:iCagenda
X-WR-CALDESC:Event Management Extension for Joomla!
X-WR-RELCALID:3E26604A-50F4-4449-8B3E-E4F4932D05B5
X-WR-TIMEZONE:UTC
BEGIN:VTIMEZONE
TZID:UTC
END:VTIMEZONE
BEGIN:VEVENT
UID:38643736-6564-4661-a364-393965343735
DTSTAMP:20260419T140419Z
CATEGORIES:Events 2026
CLASS:PUBLIC
DESCRIPTION:
DTSTART:20261031T090000Z
DTEND:20261031T180000Z
GEO:+51.234016;+14.167101
LOCATION:
ORGANIZER:
SEQUENCE:1
SUMMARY:Saisonabschluß 2026
TRANSP:OPAQUE
URL:https://mc-jauer.de/index.php/termine/saisonabschluss26/2026-10-31-09-0
 0
END:VEVENT
END:VCALENDAR
