BEGIN:VCALENDAR
VERSION:2.0
PRODID:-//MC Jauer e.V. im ADAC//NONSGML kigkonsult.se iCalcreator 2.41.92//
CALSCALE:GREGORIAN
METHOD:PUBLISH
UID:31613038-6331-4630-b034-636465303963
X-WR-CALNAME:iCagenda
X-WR-CALDESC:Event Management Extension for Joomla!
X-WR-RELCALID:3E26604A-50F4-4449-8B3E-E4F4932D05B5
X-WR-TIMEZONE:UTC
BEGIN:VTIMEZONE
TZID:UTC
END:VTIMEZONE
BEGIN:VEVENT
UID:39376435-6363-4934-a632-313133323039
DTSTAMP:20260419T140014Z
CATEGORIES:Events 2026
CLASS:PUBLIC
DESCRIPTION;ALTREP="CID:<FFFF__=0ABBE548DFE235B58f9e8a93d@coffeebean.com>":
 Infos folgen
DTSTART:20261024T175700Z
DTEND:20261025T170000Z
GEO:00;0
LOCATION:
ORGANIZER:
SEQUENCE:1
SUMMARY:MC Jauer Clubcross
TRANSP:OPAQUE
URL:https://mc-jauer.de/index.php/termine/clubcross2026
END:VEVENT
END:VCALENDAR
