BEGIN:VCALENDAR
VERSION:2.0
PRODID:-//MC Jauer e.V. im ADAC//NONSGML kigkonsult.se iCalcreator 2.41.92//
CALSCALE:GREGORIAN
METHOD:PUBLISH
UID:30636435-6131-4436-b662-653565316237
X-WR-CALNAME:iCagenda
X-WR-CALDESC:Event Management Extension for Joomla!
X-WR-RELCALID:3E26604A-50F4-4449-8B3E-E4F4932D05B5
X-WR-TIMEZONE:UTC
BEGIN:VTIMEZONE
TZID:UTC
END:VTIMEZONE
BEGIN:VEVENT
UID:36323332-6635-4363-a631-613933303661
DTSTAMP:20260419T135944Z
CATEGORIES:Events 2026
CLASS:PUBLIC
DESCRIPTION;ALTREP="CID:<FFFF__=0ABBE548DFE235B58f9e8a93d@coffeebean.com>":
 Auch dieses Jahr ins unser Strecke zu Himmelfahrt geöffnet
DTSTART:20260513T000000Z
DTEND:20260513T235900Z
GEO:+51.234016;+14.167101
LOCATION:
ORGANIZER:
SEQUENCE:1
SUMMARY:Christ Himmelfahrt auf der Crossstrecke
TRANSP:OPAQUE
URL:https://mc-jauer.de/index.php/termine/christ-himmelfahrt-auf-der-crosss
 trecke/2026-05-13-00-00
END:VEVENT
END:VCALENDAR
