BEGIN:VCALENDAR
VERSION:2.0
PRODID:-//MC Jauer e.V. im ADAC//NONSGML kigkonsult.se iCalcreator 2.41.92//
CALSCALE:GREGORIAN
METHOD:PUBLISH
UID:64613038-6465-4530-a662-616466623765
X-WR-CALNAME:iCagenda
X-WR-CALDESC:Event Management Extension for Joomla!
X-WR-RELCALID:3E26604A-50F4-4449-8B3E-E4F4932D05B5
X-WR-TIMEZONE:UTC
BEGIN:VTIMEZONE
TZID:UTC
END:VTIMEZONE
BEGIN:VEVENT
UID:63306432-6130-4866-b939-346130653562
DTSTAMP:20260419T141654Z
CATEGORIES:Events 2026
CLASS:PUBLIC
DESCRIPTION;ALTREP="CID:<FFFF__=0ABBE548DFE235B58f9e8a93d@coffeebean.com>":
 Infos folgen
DTSTART:20260919T174300Z
DTEND:20260919T180000Z
GEO:+51.234016;+14.167101
LOCATION:
ORGANIZER:
SEQUENCE:1
SUMMARY:3. ADAC Trainingslager
TRANSP:OPAQUE
URL:https://mc-jauer.de/index.php/termine/3-adac-trainingslager-3/2026-09-1
 9-17-43
END:VEVENT
END:VCALENDAR
