BEGIN:VCALENDAR
VERSION:2.0
PRODID:-//MC Jauer e.V. im ADAC//NONSGML kigkonsult.se iCalcreator 2.41.92//
CALSCALE:GREGORIAN
METHOD:PUBLISH
UID:32323939-3633-4631-a561-383639653232
X-WR-CALNAME:iCagenda
X-WR-CALDESC:Event Management Extension for Joomla!
X-WR-RELCALID:3E26604A-50F4-4449-8B3E-E4F4932D05B5
X-WR-TIMEZONE:UTC
BEGIN:VTIMEZONE
TZID:UTC
END:VTIMEZONE
BEGIN:VEVENT
UID:62326466-6132-4135-b565-353837336262
DTSTAMP:20260419T135730Z
CATEGORIES:Events 2026
CLASS:PUBLIC
DESCRIPTION;ALTREP="CID:<FFFF__=0ABBE548DFE235B58f9e8a93d@coffeebean.com>":
 Infos folgen
DTSTART:20260906T090000Z
DTEND:20260906T160000Z
GEO:+51.234016;+14.167101
LOCATION:
ORGANIZER:
SEQUENCE:1
SUMMARY:2. Schnuppertraining 2026
TRANSP:OPAQUE
URL:https://mc-jauer.de/index.php/termine/2-schnuppertraining-2026/2026-09-
 06-09-00
END:VEVENT
END:VCALENDAR
