BEGIN:VCALENDAR
VERSION:2.0
PRODID:-//MC Jauer e.V. im ADAC//NONSGML kigkonsult.se iCalcreator 2.41.92//
CALSCALE:GREGORIAN
METHOD:PUBLISH
UID:63336363-6165-4665-b335-303462333531
X-WR-CALNAME:iCagenda
X-WR-CALDESC:Event Management Extension for Joomla!
X-WR-RELCALID:3E26604A-50F4-4449-8B3E-E4F4932D05B5
X-WR-TIMEZONE:UTC
BEGIN:VTIMEZONE
TZID:UTC
END:VTIMEZONE
BEGIN:VEVENT
UID:32643930-3432-4734-b736-656134313438
DTSTAMP:20260419T135905Z
CATEGORIES:Events 2026
CLASS:PUBLIC
DESCRIPTION;ALTREP="CID:<FFFF__=0ABBE548DFE235B58f9e8a93d@coffeebean.com>":
 Infos folgen
DTSTART:20260704T174300Z
DTEND:20260704T180000Z
GEO:+51.234016;+14.167101
LOCATION:
ORGANIZER:
SEQUENCE:1
SUMMARY:2. ADAC Trainingslager
TRANSP:OPAQUE
URL:https://mc-jauer.de/index.php/termine/2-adac-trainingslager-2/2026-07-0
 4-17-43
END:VEVENT
END:VCALENDAR
