BEGIN:VCALENDAR
VERSION:2.0
PRODID:-//MC Jauer e.V. im ADAC//NONSGML kigkonsult.se iCalcreator 2.41.92//
CALSCALE:GREGORIAN
METHOD:PUBLISH
UID:34343932-3563-4432-a364-316661346130
X-WR-CALNAME:iCagenda
X-WR-CALDESC:Event Management Extension for Joomla!
X-WR-RELCALID:3E26604A-50F4-4449-8B3E-E4F4932D05B5
X-WR-TIMEZONE:UTC
BEGIN:VTIMEZONE
TZID:UTC
END:VTIMEZONE
BEGIN:VEVENT
UID:35366330-3435-4363-b163-383862356565
DTSTAMP:20260419T140235Z
CATEGORIES:Events 2026
CLASS:PUBLIC
DESCRIPTION;ALTREP="CID:<FFFF__=0ABBE548DFE235B58f9e8a93d@coffeebean.com>":
 Infos folgen
DTSTART:20260620T174300Z
DTEND:20260620T174300Z
GEO:+51.234016;+14.167101
LOCATION:
ORGANIZER:
SEQUENCE:1
SUMMARY:1. ADAC Trainingslager
TRANSP:OPAQUE
URL:https://mc-jauer.de/index.php/termine/1-adac-trainingslager/2026-06-20-
 17-43
END:VEVENT
END:VCALENDAR
